BEGIN:VCALENDAR
VERSION:2.0
PRODID:-//proLeaf QuickSilver Schulung - ECPv6.0.1.1//NONSGML v1.0//EN
CALSCALE:GREGORIAN
METHOD:PUBLISH
X-ORIGINAL-URL:https://proleaf.de
X-WR-CALDESC:Veranstaltungen für proLeaf QuickSilver Schulung
REFRESH-INTERVAL;VALUE=DURATION:PT1H
X-Robots-Tag:noindex
X-PUBLISHED-TTL:PT1H
BEGIN:VTIMEZONE
TZID:Europe/Paris
BEGIN:DAYLIGHT
TZOFFSETFROM:+0100
TZOFFSETTO:+0200
TZNAME:CEST
DTSTART:20160327T010000
END:DAYLIGHT
BEGIN:STANDARD
TZOFFSETFROM:+0200
TZOFFSETTO:+0100
TZNAME:CET
DTSTART:20161030T010000
END:STANDARD
END:VTIMEZONE
BEGIN:VEVENT
DTSTART;TZID=Europe/Paris:20160126T100000
DTEND;TZID=Europe/Paris:20160127T173000
DTSTAMP:20260423T133034
CREATED:20151205T213939Z
LAST-MODIFIED:20160106T155409Z
UID:379-1453802400-1453915800@proleaf.de
SUMMARY:QuickSilver SuperUser-Schulung
DESCRIPTION:QuickSilver SuperUser-Schulung\nDie QuickSilver SuperUser-Schulung von proLeaf ist eine Aufbau-Schulung. Sie richtet sich an Anwender\, die ihre Kenntnisse vertiefen möchten\, die Dokumente effizienter gestalten und die Dokumentvorlagen und Buch-Kataloge erstellen und verwalten wollen. \nAus dem Inhalt: Automatische Nummerierung und Querverweise\, Arbeiten im Buch\, Buch-Katalog\, Variantensteuerung\, Hyperleaf Toolkits\, Erstellung von PDF- und HTML Dokumenten (Publizieren) \nDauer der Schulung: 2 Tage\nDer Preis versteht sich inklusive Schulungsunterlagen\, heißen und kalten Getränken während der Schulung\, tägliches Mittagessen und telefonischer Nachbetreuung der Teilnehmer. \nUnsere QuickSilver-Basis-Schulungen finden auch bei nur einem Teilnehmer statt. Dann allerdings auf 3 Tage (anstatt 3\,5 Tage) verkürzt bei gleichbleibendem Preis. Alle Schulungen finden je nach Teilnehmeranzahl in unseren Räumen in Grävenwiesbach oder in einem Schulungcenter in der näheren Umgebung statt. Auf Anfrage auch gerne in Ihren Räumlichkeiten. Schulungen können bis 3 Wochen vor Schulungsbeginn kostenfrei storniert werden. Danach berechnen wir bei einer Stornierung die Hälfte des Schulungspreises\, bei einer Umbuchung auf einen anderen Termin eine Umbuchungsgebühr von 400 Euro. Alle Preise verstehen sich zuzüglich der gesetzlichen Mehrwertsteuer.
URL:https://proleaf.de/schulung-termin/quicksilver-superuser-schulung/
LOCATION:proLeaf
CATEGORIES:QuickSilver,QuickSilver SuperUser-Schulung
ATTACH;FMTTYPE=image/jpeg:https://proleaf.de/wp-content/uploads/2015/12/PROLEAF-QUICKSILVER-SUPERUSER-SCHULUNG-TERMIN-DAGMAR-OCHS.jpg
END:VEVENT
END:VCALENDAR